BEGIN:VCALENDAR
VERSION:2.0
PRODID:-//ddaysoftware.com//NONSGML DDay.iCal 1.0//EN
BEGIN:VEVENT
DESCRIPTION:
DTEND:20161027T235900
DTSTAMP:20260421T011251
DTSTART:20161027T000000
LOCATION:Maggiano's Banquets\, 111 W. Grand Avenue\, Chicago\, IL 60654
SEQUENCE:0
SUMMARY:The 2017 City of Chicago Budget
UID:abc66efe-6583-4032-b90f-9d207242c9b8
END:VEVENT
END:VCALENDAR
