BEGIN:VCALENDAR
VERSION:2.0
PRODID:-//ddaysoftware.com//NONSGML DDay.iCal 1.0//EN
BEGIN:VEVENT
DESCRIPTION:
DTEND:20180607T133000
DTSTAMP:20260425T071646
DTSTART:20180607T113000
LOCATION:Maggiano's Banquets\, 111 W. Grand Avenue\, Chicago\, IL 60654
SEQUENCE:0
SUMMARY:The Factory of the Future: From Ideas to Invoices
UID:bb01f195-f29e-4459-a789-7fc97589f099
END:VEVENT
END:VCALENDAR
