BEGIN:VCALENDAR
VERSION:2.0
PRODID:-//ddaysoftware.com//NONSGML DDay.iCal 1.0//EN
BEGIN:VEVENT
DESCRIPTION:
DTEND:20260526T131500
DTSTAMP:20260420T110912
DTSTART:20260526T120000
LOCATION:Maggiano's Banquets\, 111 W. Grand Avenue\, Chicago\, IL 60654
SEQUENCE:0
SUMMARY:Anchoring in West Garfield Park: The Launch of the Sankofa Village 
 Wellness Center
UID:94ad6326-c541-4932-90f5-436f74e8b86e
END:VEVENT
END:VCALENDAR
